BEGIN:VCALENDAR
VERSION:2.0
PRODID:-//Grundschule Wissel - ECPv6.15.20//NONSGML v1.0//EN
CALSCALE:GREGORIAN
METHOD:PUBLISH
X-WR-CALNAME:Grundschule Wissel
X-ORIGINAL-URL:https://grundschule-wissel.de
X-WR-CALDESC:Veranstaltungen für Grundschule Wissel
REFRESH-INTERVAL;VALUE=DURATION:PT1H
X-Robots-Tag:noindex
X-PUBLISHED-TTL:PT1H
BEGIN:VTIMEZONE
TZID:Europe/Berlin
BEGIN:DAYLIGHT
TZOFFSETFROM:+0100
TZOFFSETTO:+0200
TZNAME:CEST
DTSTART:20240331T010000
END:DAYLIGHT
BEGIN:STANDARD
TZOFFSETFROM:+0200
TZOFFSETTO:+0100
TZNAME:CET
DTSTART:20241027T010000
END:STANDARD
BEGIN:DAYLIGHT
TZOFFSETFROM:+0100
TZOFFSETTO:+0200
TZNAME:CEST
DTSTART:20250330T010000
END:DAYLIGHT
BEGIN:STANDARD
TZOFFSETFROM:+0200
TZOFFSETTO:+0100
TZNAME:CET
DTSTART:20251026T010000
END:STANDARD
BEGIN:DAYLIGHT
TZOFFSETFROM:+0100
TZOFFSETTO:+0200
TZNAME:CEST
DTSTART:20260329T010000
END:DAYLIGHT
BEGIN:STANDARD
TZOFFSETFROM:+0200
TZOFFSETTO:+0100
TZNAME:CET
DTSTART:20261025T010000
END:STANDARD
END:VTIMEZONE
BEGIN:VEVENT
DTSTART;VALUE=DATE:20250206
DTEND;VALUE=DATE:20250207
DTSTAMP:20260419T174704
CREATED:20240821T062924Z
LAST-MODIFIED:20240821T062924Z
UID:2646-1738800000-1738886399@grundschule-wissel.de
SUMMARY:Bücherei
DESCRIPTION:
URL:https://grundschule-wissel.de/termin/buecherei-49/
END:VEVENT
BEGIN:VEVENT
DTSTART;VALUE=DATE:20250207
DTEND;VALUE=DATE:20250208
DTSTAMP:20260419T174704
CREATED:20240818T111733Z
LAST-MODIFIED:20240818T111733Z
UID:2632-1738886400-1738972799@grundschule-wissel.de
SUMMARY:Zeugnisausgabe Jahrgang 3/4
DESCRIPTION:
URL:https://grundschule-wissel.de/termin/zeugnisausgabe-jahrgang-3-4-5/
END:VEVENT
BEGIN:VEVENT
DTSTART;TZID=Europe/Berlin:20250219T080000
DTEND;TZID=Europe/Berlin:20250219T090000
DTSTAMP:20260419T174704
CREATED:20240814T132435Z
LAST-MODIFIED:20240814T132435Z
UID:2568-1739952000-1739955600@grundschule-wissel.de
SUMMARY:ökumenischer Gottesdienst Jahrgang 1/2
DESCRIPTION:
URL:https://grundschule-wissel.de/termin/oekumenischer-gottesdienst-jahrgang-1-2-3/
END:VEVENT
BEGIN:VEVENT
DTSTART;TZID=Europe/Berlin:20250227T080000
DTEND;TZID=Europe/Berlin:20250227T113000
DTSTAMP:20260419T174704
CREATED:20240814T132523Z
LAST-MODIFIED:20240814T132523Z
UID:2570-1740643200-1740655800@grundschule-wissel.de
SUMMARY:Karnevalsfeier
DESCRIPTION:
URL:https://grundschule-wissel.de/termin/karnevalsfeier-6/
END:VEVENT
BEGIN:VEVENT
DTSTART;VALUE=DATE:20250228
DTEND;VALUE=DATE:20250301
DTSTAMP:20260419T174704
CREATED:20240814T132609Z
LAST-MODIFIED:20240814T132609Z
UID:2572-1740700800-1740787199@grundschule-wissel.de
SUMMARY:beweglicher Ferientag
DESCRIPTION:
URL:https://grundschule-wissel.de/termin/beweglicher-ferientag-18/
END:VEVENT
END:VCALENDAR