BEGIN:VCALENDAR
VERSION:2.0
PRODID:-//Grundschule Wissel - ECPv6.15.20//NONSGML v1.0//EN
CALSCALE:GREGORIAN
METHOD:PUBLISH
X-ORIGINAL-URL:https://grundschule-wissel.de
X-WR-CALDESC:Veranstaltungen für Grundschule Wissel
REFRESH-INTERVAL;VALUE=DURATION:PT1H
X-Robots-Tag:noindex
X-PUBLISHED-TTL:PT1H
BEGIN:VTIMEZONE
TZID:Europe/Berlin
BEGIN:DAYLIGHT
TZOFFSETFROM:+0100
TZOFFSETTO:+0200
TZNAME:CEST
DTSTART:20230326T010000
END:DAYLIGHT
BEGIN:STANDARD
TZOFFSETFROM:+0200
TZOFFSETTO:+0100
TZNAME:CET
DTSTART:20231029T010000
END:STANDARD
BEGIN:DAYLIGHT
TZOFFSETFROM:+0100
TZOFFSETTO:+0200
TZNAME:CEST
DTSTART:20240331T010000
END:DAYLIGHT
BEGIN:STANDARD
TZOFFSETFROM:+0200
TZOFFSETTO:+0100
TZNAME:CET
DTSTART:20241027T010000
END:STANDARD
BEGIN:DAYLIGHT
TZOFFSETFROM:+0100
TZOFFSETTO:+0200
TZNAME:CEST
DTSTART:20250330T010000
END:DAYLIGHT
BEGIN:STANDARD
TZOFFSETFROM:+0200
TZOFFSETTO:+0100
TZNAME:CET
DTSTART:20251026T010000
END:STANDARD
END:VTIMEZONE
BEGIN:VEVENT
DTSTART;VALUE=DATE:20240501
DTEND;VALUE=DATE:20240502
DTSTAMP:20260419T193412
CREATED:20230705T164329Z
LAST-MODIFIED:20230705T164329Z
UID:2084-1714521600-1714607999@grundschule-wissel.de
SUMMARY:Tag der Arbeit "schulfrei"
DESCRIPTION:
URL:https://grundschule-wissel.de/termin/tag-der-arbeit-schulfrei/
END:VEVENT
BEGIN:VEVENT
DTSTART;TZID=Europe/Berlin:20240508T081000
DTEND;TZID=Europe/Berlin:20240508T090000
DTSTAMP:20260419T193412
CREATED:20230705T164443Z
LAST-MODIFIED:20230705T164443Z
UID:2086-1715155800-1715158800@grundschule-wissel.de
SUMMARY:Gottesdienst Jahrgang 3/4
DESCRIPTION:
URL:https://grundschule-wissel.de/termin/gottesdienst-jahrgang-3-4-20/
END:VEVENT
BEGIN:VEVENT
DTSTART;VALUE=DATE:20240509
DTEND;VALUE=DATE:20240510
DTSTAMP:20260419T193412
CREATED:20230705T164529Z
LAST-MODIFIED:20230705T164529Z
UID:2088-1715212800-1715299199@grundschule-wissel.de
SUMMARY:Christi Himmelfahrt "schulfrei"
DESCRIPTION:
URL:https://grundschule-wissel.de/termin/christi-himmelfahrt-schulfrei-2/
END:VEVENT
BEGIN:VEVENT
DTSTART;VALUE=DATE:20240510
DTEND;VALUE=DATE:20240511
DTSTAMP:20260419T193412
CREATED:20230705T164612Z
LAST-MODIFIED:20230705T173108Z
UID:2090-1715299200-1715385599@grundschule-wissel.de
SUMMARY:beweglicher Ferientag
DESCRIPTION:
URL:https://grundschule-wissel.de/termin/beweglicher-ferientag-17/
END:VEVENT
BEGIN:VEVENT
DTSTART;VALUE=DATE:20240513
DTEND;VALUE=DATE:20240517
DTSTAMP:20260419T193412
CREATED:20230705T164703Z
LAST-MODIFIED:20230705T164703Z
UID:2092-1715558400-1715903999@grundschule-wissel.de
SUMMARY:Radfahrtraining Jahrgang 4
DESCRIPTION:
URL:https://grundschule-wissel.de/termin/radfahrtraining-jahrgang-4/
END:VEVENT
BEGIN:VEVENT
DTSTART;VALUE=DATE:20240516
DTEND;VALUE=DATE:20240517
DTSTAMP:20260419T193412
CREATED:20230705T164749Z
LAST-MODIFIED:20230705T164749Z
UID:2094-1715817600-1715903999@grundschule-wissel.de
SUMMARY:Bücherei
DESCRIPTION:
URL:https://grundschule-wissel.de/termin/buecherei-42/
END:VEVENT
BEGIN:VEVENT
DTSTART;VALUE=DATE:20240517
DTEND;VALUE=DATE:20240518
DTSTAMP:20260419T193412
CREATED:20230705T164857Z
LAST-MODIFIED:20230705T164857Z
UID:2096-1715904000-1715990399@grundschule-wissel.de
SUMMARY:Radfahrprüfung Jahrgang 4
DESCRIPTION:
URL:https://grundschule-wissel.de/termin/radfahrpruefung-jahrgang-4-2/
END:VEVENT
BEGIN:VEVENT
DTSTART;VALUE=DATE:20240520
DTEND;VALUE=DATE:20240521
DTSTAMP:20260419T193412
CREATED:20230705T164950Z
LAST-MODIFIED:20230705T164950Z
UID:2098-1716163200-1716249599@grundschule-wissel.de
SUMMARY:Pfingstmontag "schulfrei"
DESCRIPTION:
URL:https://grundschule-wissel.de/termin/pfingstmontag-schulfrei-2/
END:VEVENT
BEGIN:VEVENT
DTSTART;VALUE=DATE:20240521
DTEND;VALUE=DATE:20240522
DTSTAMP:20260419T193412
CREATED:20230705T165255Z
LAST-MODIFIED:20230705T165255Z
UID:2100-1716249600-1716335999@grundschule-wissel.de
SUMMARY:Pfingstferien
DESCRIPTION:
URL:https://grundschule-wissel.de/termin/pfingstferien-5/
END:VEVENT
BEGIN:VEVENT
DTSTART;VALUE=DATE:20240522
DTEND;VALUE=DATE:20240615
DTSTAMP:20260419T193412
CREATED:20230705T170155Z
LAST-MODIFIED:20230705T170155Z
UID:2103-1716336000-1718409599@grundschule-wissel.de
SUMMARY:Texthelden / RP online Jahrgang 4
DESCRIPTION:
URL:https://grundschule-wissel.de/termin/texthelden-rp-online-jahrgang-4/
END:VEVENT
BEGIN:VEVENT
DTSTART;TZID=Europe/Berlin:20240523T190000
DTEND;TZID=Europe/Berlin:20240523T203000
DTSTAMP:20260419T193412
CREATED:20240502T073659Z
LAST-MODIFIED:20240502T073659Z
UID:2436-1716490800-1716496200@grundschule-wissel.de
SUMMARY:Schulkonferenz
DESCRIPTION:
URL:https://grundschule-wissel.de/termin/schulkonferenz-3/
END:VEVENT
BEGIN:VEVENT
DTSTART;VALUE=DATE:20240530
DTEND;VALUE=DATE:20240531
DTSTAMP:20260419T193412
CREATED:20230705T173034Z
LAST-MODIFIED:20230705T173034Z
UID:2128-1717027200-1717113599@grundschule-wissel.de
SUMMARY:Fronleichnam "schulfrei"
DESCRIPTION:
URL:https://grundschule-wissel.de/termin/fronleichnam-schulfrei-2/
END:VEVENT
BEGIN:VEVENT
DTSTART;VALUE=DATE:20240531
DTEND;VALUE=DATE:20240601
DTSTAMP:20260419T193412
CREATED:20230705T170557Z
LAST-MODIFIED:20230728T112614Z
UID:2111-1717113600-1717199999@grundschule-wissel.de
SUMMARY:Sportfest
DESCRIPTION:
URL:https://grundschule-wissel.de/termin/sportfest-2/
END:VEVENT
END:VCALENDAR