BEGIN:VCALENDAR
VERSION:2.0
PRODID:-//Grundschule Wissel - ECPv6.15.20//NONSGML v1.0//EN
CALSCALE:GREGORIAN
METHOD:PUBLISH
X-WR-CALNAME:Grundschule Wissel
X-ORIGINAL-URL:https://grundschule-wissel.de
X-WR-CALDESC:Veranstaltungen für Grundschule Wissel
REFRESH-INTERVAL;VALUE=DURATION:PT1H
X-Robots-Tag:noindex
X-PUBLISHED-TTL:PT1H
BEGIN:VTIMEZONE
TZID:Europe/Berlin
BEGIN:DAYLIGHT
TZOFFSETFROM:+0100
TZOFFSETTO:+0200
TZNAME:CEST
DTSTART:20200329T010000
END:DAYLIGHT
BEGIN:STANDARD
TZOFFSETFROM:+0200
TZOFFSETTO:+0100
TZNAME:CET
DTSTART:20201025T010000
END:STANDARD
BEGIN:DAYLIGHT
TZOFFSETFROM:+0100
TZOFFSETTO:+0200
TZNAME:CEST
DTSTART:20210328T010000
END:DAYLIGHT
BEGIN:STANDARD
TZOFFSETFROM:+0200
TZOFFSETTO:+0100
TZNAME:CET
DTSTART:20211031T010000
END:STANDARD
BEGIN:DAYLIGHT
TZOFFSETFROM:+0100
TZOFFSETTO:+0200
TZNAME:CEST
DTSTART:20220327T010000
END:DAYLIGHT
BEGIN:STANDARD
TZOFFSETFROM:+0200
TZOFFSETTO:+0100
TZNAME:CET
DTSTART:20221030T010000
END:STANDARD
END:VTIMEZONE
BEGIN:VEVENT
DTSTART;TZID=Europe/Berlin:20210203T080000
DTEND;TZID=Europe/Berlin:20210203T160000
DTSTAMP:20260424T050033
CREATED:20201023T140113Z
LAST-MODIFIED:20201027T105956Z
UID:1034-1612339200-1612368000@grundschule-wissel.de
SUMMARY:Ganztägige Lehrerfortbildung / Studientag
DESCRIPTION:
URL:https://grundschule-wissel.de/termin/ganztaegige-lehrerfortbildung-studientag-3/
END:VEVENT
BEGIN:VEVENT
DTSTART;TZID=Europe/Berlin:20210211T080000
DTEND;TZID=Europe/Berlin:20210211T160000
DTSTAMP:20260424T050033
CREATED:20201023T135718Z
LAST-MODIFIED:20201023T135718Z
UID:1026-1613030400-1613059200@grundschule-wissel.de
SUMMARY:Karnevalsfeier
DESCRIPTION:
URL:https://grundschule-wissel.de/termin/karnevalsfeier-2/
END:VEVENT
BEGIN:VEVENT
DTSTART;TZID=Europe/Berlin:20210212T080000
DTEND;TZID=Europe/Berlin:20210212T160000
DTSTAMP:20260424T050033
CREATED:20201023T135756Z
LAST-MODIFIED:20201023T135756Z
UID:1028-1613116800-1613145600@grundschule-wissel.de
SUMMARY:Beweglicher Ferientag
DESCRIPTION:
URL:https://grundschule-wissel.de/termin/beweglicher-ferientag-8/
END:VEVENT
BEGIN:VEVENT
DTSTART;TZID=Europe/Berlin:20210215T080000
DTEND;TZID=Europe/Berlin:20210215T160000
DTSTAMP:20260424T050033
CREATED:20201023T135837Z
LAST-MODIFIED:20201023T135837Z
UID:1030-1613376000-1613404800@grundschule-wissel.de
SUMMARY:Beweglicher Ferientag
DESCRIPTION:
URL:https://grundschule-wissel.de/termin/beweglicher-ferientag-9/
END:VEVENT
BEGIN:VEVENT
DTSTART;TZID=Europe/Berlin:20210216T080000
DTEND;TZID=Europe/Berlin:20210216T170000
DTSTAMP:20260424T050033
CREATED:20201023T135907Z
LAST-MODIFIED:20201023T135907Z
UID:1032-1613462400-1613494800@grundschule-wissel.de
SUMMARY:Beweglicher Ferientag
DESCRIPTION:
URL:https://grundschule-wissel.de/termin/beweglicher-ferientag-10/
END:VEVENT
END:VCALENDAR