BEGIN:VCALENDAR
VERSION:2.0
PRODID:-//Grundschule Wissel - ECPv6.15.20//NONSGML v1.0//EN
CALSCALE:GREGORIAN
METHOD:PUBLISH
X-ORIGINAL-URL:https://grundschule-wissel.de
X-WR-CALDESC:Veranstaltungen für Grundschule Wissel
REFRESH-INTERVAL;VALUE=DURATION:PT1H
X-Robots-Tag:noindex
X-PUBLISHED-TTL:PT1H
BEGIN:VTIMEZONE
TZID:Europe/Berlin
BEGIN:DAYLIGHT
TZOFFSETFROM:+0100
TZOFFSETTO:+0200
TZNAME:CEST
DTSTART:20180325T010000
END:DAYLIGHT
BEGIN:STANDARD
TZOFFSETFROM:+0200
TZOFFSETTO:+0100
TZNAME:CET
DTSTART:20181028T010000
END:STANDARD
BEGIN:DAYLIGHT
TZOFFSETFROM:+0100
TZOFFSETTO:+0200
TZNAME:CEST
DTSTART:20190331T010000
END:DAYLIGHT
BEGIN:STANDARD
TZOFFSETFROM:+0200
TZOFFSETTO:+0100
TZNAME:CET
DTSTART:20191027T010000
END:STANDARD
BEGIN:DAYLIGHT
TZOFFSETFROM:+0100
TZOFFSETTO:+0200
TZNAME:CEST
DTSTART:20200329T010000
END:DAYLIGHT
BEGIN:STANDARD
TZOFFSETFROM:+0200
TZOFFSETTO:+0100
TZNAME:CET
DTSTART:20201025T010000
END:STANDARD
END:VTIMEZONE
BEGIN:VEVENT
DTSTART;VALUE=DATE:20190612
DTEND;VALUE=DATE:20190616
DTSTAMP:20260422T103833
CREATED:20190503T154506Z
LAST-MODIFIED:20190503T154506Z
UID:464-1560297600-1560643199@grundschule-wissel.de
SUMMARY:Zirkusprojekt
DESCRIPTION:
URL:https://grundschule-wissel.de/termin/zirkusprojekt/
END:VEVENT
BEGIN:VEVENT
DTSTART;TZID=Europe/Berlin:20190612T193000
DTEND;TZID=Europe/Berlin:20190612T210000
DTSTAMP:20260422T103833
CREATED:20190517T151826Z
LAST-MODIFIED:20190517T151826Z
UID:503-1560367800-1560373200@grundschule-wissel.de
SUMMARY:Matthias Jung – „Chill Mal! Am Ende der Geduld ist noch viel Pubertät übrig!“
DESCRIPTION:Am Mittwoch\, den 12. Juni 2019 um 19:30 Uhr (Einlass 19 Uhr) wird Matthias Jung im Zirkuszelt am Markt in Wissel sein Programm „Chill Mal! Am Ende der Geduld ist noch viel Pubertät übrig!“ präsentieren. Karten gibt es im Vorverkauf zu den Bürozeiten des Sekretariats der Grundschule Wissel zum Preis von 10€.
URL:https://grundschule-wissel.de/termin/matthias-jung-chill-mal-am-ende-der-geduld-ist-noch-viel-pubertaet-uebrig/
LOCATION:Zirkuszelt am Markt in Wissel
END:VEVENT
END:VCALENDAR